BEGIN:VCALENDAR
VERSION:2.0
BEGIN:VEVENT
SUMMARY:Reach out to Gulf Coast Latin Chamber of Commerce about Entrepreneurial Development Center (EDC)
DESCRIPTION:Reach out to them for information about their program.\n\nDescription: Housed within the Advanced Technology Center, the EDC promotes the development of new ideas and provides support for new and existing businesses across Northwest Florida. It serves as a physical hub for entrepreneurial growth and business advisory.\n\n- Phone: 850-769-1551 ext. 2845\n- Email: cpattinat@gulfcoast.edu\n- Source: https://founder-nav.com/programs/recfYcuwWxbVWrYI5\n\n---\nBrought to you by Founder Nav, helping entrepreneurs navigate the entrepreneurial ecosystem.
DTSTART:20260425T100019Z
DTEND:20260425T103019Z
END:VEVENT
END:VCALENDAR