BEGIN:VCALENDAR
VERSION:2.0
BEGIN:VEVENT
SUMMARY:Reach out to Delaware Center for Enterprise Development about One-on-One Technical Assistance for Entrepreneurs
DESCRIPTION:Reach out to them for information about their program.\n\nDescription: Unlimited free one-on-one consulting sessions for pre-venture and existing entrepreneurs on all aspects of business startup and development at Delaware State University.\n\n- Source: https://founder-nav.com/programs/recfUp1z4wWTEs797\n\n---\nBrought to you by Founder Nav, helping entrepreneurs navigate the entrepreneurial ecosystem.
DTSTART:20260425T100031Z
DTEND:20260425T103031Z
END:VEVENT
END:VCALENDAR