BEGIN:VCALENDAR
VERSION:2.0
BEGIN:VEVENT
SUMMARY:Reach out to Emporia Area Chamber about Mi Negocio Academy
DESCRIPTION:Reach out to them for information about their program.\n\nDescription: Comprehensive 5-class program in Spanish teaching aspiring entrepreneurs business planning, marketing, financial management, operations, and legal considerations to launch their businesses.\n\n- Phone: (620) 342-1600\n- Email: rherrera@emporiakschamber.org\n- Source: https://founder-nav.com/programs/recf3pipXcfFjMWWe\n\n---\nBrought to you by Founder Nav, helping entrepreneurs navigate the entrepreneurial ecosystem.
DTSTART:20260425T100026Z
DTEND:20260425T103026Z
END:VEVENT
END:VCALENDAR