BEGIN:VCALENDAR
VERSION:2.0
BEGIN:VEVENT
SUMMARY:Reach out to Center for Community Transformation about LaunchPad
DESCRIPTION:Reach out to them for information about their program.\n\nDescription: Empowers entrepreneurs to clarify their vision, refine their business model, and gain essential skills to confidently grow and sustain their business.\n\n- Phone: (559) 453-2367\n- Source: https://founder-nav.com/programs/recf3QsFVGIqxIVPG\n\n---\nBrought to you by Founder Nav, helping entrepreneurs navigate the entrepreneurial ecosystem.
DTSTART:20260425T100032Z
DTEND:20260425T103032Z
END:VEVENT
END:VCALENDAR