BEGIN:VCALENDAR
VERSION:2.0
BEGIN:VEVENT
SUMMARY:Reach out to NWI BizHub about Innovation Hub at McMillan Hall
DESCRIPTION:Reach out to them for information about their program.\n\nDescription: The Innovation Hub is dedicated to actively supporting businesses and communities throughout the region and beyond, acting as a catalyst for their growth, prosperity, and sustainable development. Through our range of events, programs and initiatives, the iHub will strive to foster a thriving ecosystem that nurtures innovation, learning, and opportunities to drive economic growth. We will foster collaboration between businesses, faculty and students to facilitate knowledge sharing and research partnerships.\n\n- Phone: (219) 464-5000\n- Email: https://www.valpo.edu/innovation-hub/\n- Source: https://founder-nav.com/programs/recewXQekzBeEWBXi\n\n---\nBrought to you by Founder Nav, helping entrepreneurs navigate the entrepreneurial ecosystem.
DTSTART:20260426T100019Z
DTEND:20260426T103019Z
END:VEVENT
END:VCALENDAR