BEGIN:VCALENDAR
VERSION:2.0
BEGIN:VEVENT
SUMMARY:Reach out to Prince George's County Economic Development Corporation about Grow Prince George's Training Program
DESCRIPTION:Reach out to them for information about their program.\n\nDescription: Comprehensive training series for BIPOC, women, and Latino entrepreneurs using an economic gardening approach. Includes 7-week Business English Essentials and 10-week Start Up Business Series for established businesses.\n\n- Source: https://founder-nav.com/programs/recewD6DWeAsl3ki7\n\n---\nBrought to you by Founder Nav, helping entrepreneurs navigate the entrepreneurial ecosystem.
DTSTART:20260425T100018Z
DTEND:20260425T103018Z
END:VEVENT
END:VCALENDAR