BEGIN:VCALENDAR
VERSION:2.0
BEGIN:VEVENT
SUMMARY:Reach out to Delaware Black Chamber of Commerce about Enrich Delaware (StreetWise MBA Cohort Program)
DESCRIPTION:Reach out to them for information about their program.\n\nDescription: Cohort-based business growth program using Interise's nationally recognized StreetWise MBA curriculum, providing minority business owners tools, networks, and a 3-year strategic growth plan.\n\n- Phone: (302) 384-7761\n- Email: email@debcc.org\n- Source: https://founder-nav.com/programs/recetwPWB92aQqdmK\n\n---\nBrought to you by Founder Nav, helping entrepreneurs navigate the entrepreneurial ecosystem.
DTSTART:20260425T100042Z
DTEND:20260425T103042Z
END:VEVENT
END:VCALENDAR