BEGIN:VCALENDAR
VERSION:2.0
BEGIN:VEVENT
SUMMARY:Reach out to Wahiawā Value-Added Product Development Center (WVAPDC) about Food Business Incubator / Commercial Kitchen Access
DESCRIPTION:Reach out to them for information about their program.\n\nDescription: Commercial kitchen incubator at the Wahiawa Value-Added Product Development Center (WVAPDC), a 33,000-square-foot state-of-the-art food manufacturing and education facility operated by Leeward Community College. Provides food entrepreneurs with affordable hourly/monthly access to professional kitchen space, product development labs, packaging equipment, and cold storage to scale their food businesses.\n\n- Phone: (808) 455-0278\n- Email: vapdc@hawaii.edu\n- Source: https://founder-nav.com/programs/receoPmjVIxFiyn27\n\n---\nBrought to you by Founder Nav, helping entrepreneurs navigate the entrepreneurial ecosystem.
DTSTART:20260425T100015Z
DTEND:20260425T103015Z
END:VEVENT
END:VCALENDAR