BEGIN:VCALENDAR
VERSION:2.0
BEGIN:VEVENT
SUMMARY:Reach out to Berkeley BioLabs about Berkeley BioLabs Membership Program
DESCRIPTION:Reach out to them for information about their program.\n\nDescription: An independent wet lab incubator providing affordable shared laboratory facilities, equipment, and community access to biotech entrepreneurs and scientists in Berkeley. Supports experiments from molecular biology to synthetic biology and biochemistry.\n\n- Phone: (415) 602-1574\n- Email: J@berkeleybiolabs.com\n- Source: https://founder-nav.com/programs/recebMivln6WIIvQI\n\n---\nBrought to you by Founder Nav, helping entrepreneurs navigate the entrepreneurial ecosystem.
DTSTART:20260425T100003Z
DTEND:20260425T103003Z
END:VEVENT
END:VCALENDAR