BEGIN:VCALENDAR
VERSION:2.0
BEGIN:VEVENT
SUMMARY:Reach out to Expert Dojo about Expert Dojo Growth Program
DESCRIPTION:Reach out to them for information about their program.\n\nDescription: A non-equity community program for startups ready to scale that do not need investment from Expert Dojo. Includes monthly high-level training videos from experts, monthly AMA sessions with Dojo experts, exclusive perks and discounts, growth tracking, and complimentary tickets to Expert Dojo events. Top performers may transition into the Investment Program and receive referrals to outside VCs and investors.\n\n- Phone: (800) 600-0881\n- Source: https://founder-nav.com/programs/recebGxi4ZBF0Y4ZG\n\n---\nBrought to you by Founder Nav, helping entrepreneurs navigate the entrepreneurial ecosystem.
DTSTART:20260425T100014Z
DTEND:20260425T103014Z
END:VEVENT
END:VCALENDAR