BEGIN:VCALENDAR
VERSION:2.0
BEGIN:VEVENT
SUMMARY:Reach out to Center for Industrial Research and Service (CIRAS) about Business Training & Workshops
DESCRIPTION:Reach out to them for information about their program.\n\nDescription: Practical training workshops and courses covering lean manufacturing, Industry 4.0, cybersecurity, workforce development, and continuous improvement for Iowa businesses.\n\n- Email: ciras@iastate.edu\n- Source: https://founder-nav.com/programs/receWLqoqUG1xpU5M\n\n---\nBrought to you by Founder Nav, helping entrepreneurs navigate the entrepreneurial ecosystem.
DTSTART:20260425T100049Z
DTEND:20260425T103049Z
END:VEVENT
END:VCALENDAR