BEGIN:VCALENDAR
VERSION:2.0
BEGIN:VEVENT
SUMMARY:Reach out to TEDCO about Rural Business Innovation Initiative (RBII)
DESCRIPTION:Reach out to them for information about their program.\n\nDescription: A TEDCO program designed to enhance technology commercialization and provide free technical and business assistance to small and early-stage technology-based companies in rural Maryland. Regional mentors provide ongoing one-on-one support, project assistance, and connections to resources. Companies receiving 90+ days of mentoring become eligible for $25,000 pre-seed funding.\n\n- Phone: (443) 786-4471\n- Email: bbernard@tedcomd.com\n- Source: https://founder-nav.com/programs/receVhC75aBuTYVg4\n\n---\nBrought to you by Founder Nav, helping entrepreneurs navigate the entrepreneurial ecosystem.
DTSTART:20260425T100002Z
DTEND:20260425T103002Z
END:VEVENT
END:VCALENDAR