BEGIN:VCALENDAR
VERSION:2.0
BEGIN:VEVENT
SUMMARY:Reach out to Bronze Valley about gBETA Bronze Valley VentureLab Delaware (7-Week Accelerator)
DESCRIPTION:Reach out to them for information about their program.\n\nDescription: Free 7-week pre-accelerator providing individualized coaching, mentor connections, and investor introductions for early-stage startups, focused on BIPOC and female founders.\n\n- Email: darren@gener8tor.com\n- Source: https://founder-nav.com/programs/receP3DGSq47MS6Tz\n\n---\nBrought to you by Founder Nav, helping entrepreneurs navigate the entrepreneurial ecosystem.
DTSTART:20260425T100008Z
DTEND:20260425T103008Z
END:VEVENT
END:VCALENDAR