BEGIN:VCALENDAR
VERSION:2.0
BEGIN:VEVENT
SUMMARY:Reach out to Marion County Chamber of Commerce about Women's Network
DESCRIPTION:Reach out to them for information about their program.\n\nDescription: Enhances the personal and professional growth of businesswomen and encourage participation and recognition of women in the community. This program provides an opportunity for personal and professional growth, and business success. In addition, it includes networking and leadership opportunities, education, and special events.\n\n- Phone: (304) 363-0442\n- Email: mccc@marionchamber.com\n- Source: https://founder-nav.com/programs/receMABndcsfSzcKV\n\n---\nBrought to you by Founder Nav, helping entrepreneurs navigate the entrepreneurial ecosystem.
DTSTART:20260425T100019Z
DTEND:20260425T103019Z
END:VEVENT
END:VCALENDAR