BEGIN:VCALENDAR
VERSION:2.0
BEGIN:VEVENT
SUMMARY:Reach out to Hawaiʻi MBDA Business Center about Business Advising & Technical Assistance for Minority-Owned Businesses
DESCRIPTION:Reach out to them for information about their program.\n\nDescription: Federal Minority Business Development Agency (MBDA) center operated by University of Hawaii at Manoa's Shidler College of Business. Provides no-cost business advising, financial modeling, procurement assistance, business planning, and help accessing contracts and capital for minority-owned businesses in Hawaii.\n\n- Phone: (808) 956-6693\n- Email: info@hawaiimbda.com\n- Source: https://founder-nav.com/programs/rece0Ftb83oMgE9Zn\n\n---\nBrought to you by Founder Nav, helping entrepreneurs navigate the entrepreneurial ecosystem.
DTSTART:20260425T100003Z
DTEND:20260425T103003Z
END:VEVENT
END:VCALENDAR