BEGIN:VCALENDAR
VERSION:2.0
BEGIN:VEVENT
SUMMARY:Reach out to Fairbanks Food Hub about Fairbanks Food Hub Farmer Incubation
DESCRIPTION:Reach out to them for information about their program.\n\nDescription: A food hub initiative in Interior Alaska providing farmer incubation, DEC-certified community kitchen access, cooperative food processing/storage, and support for local food entrepreneurs.\n\n- Source: https://founder-nav.com/programs/recdyK966pwhz4Saf\n\n---\nBrought to you by Founder Nav, helping entrepreneurs navigate the entrepreneurial ecosystem.
DTSTART:20260425T100022Z
DTEND:20260425T103022Z
END:VEVENT
END:VCALENDAR