BEGIN:VCALENDAR
VERSION:2.0
BEGIN:VEVENT
SUMMARY:Reach out to The Roux Institute at Northeastern University about Future of Healthcare Founder Residency
DESCRIPTION:Reach out to them for information about their program.\n\nDescription: A 12-month healthcare-focused accelerator, launched in spring 2023, connecting healthtech founders with Maine's premier health systems. Provides $50K investment per company, clinical testing environments, and access to Northern Light Health and MaineHealth networks.\n\n- Source: https://founder-nav.com/programs/recdus92F6tWjYyvJ\n\n---\nBrought to you by Founder Nav, helping entrepreneurs navigate the entrepreneurial ecosystem.
DTSTART:20260425T100031Z
DTEND:20260425T103031Z
END:VEVENT
END:VCALENDAR