BEGIN:VCALENDAR
VERSION:2.0
BEGIN:VEVENT
SUMMARY:Reach out to Delaware Division of Small Business Wilmington about One-on-One Business Counseling (Regional Business Managers)
DESCRIPTION:Reach out to them for information about their program.\n\nDescription: Free one-on-one counseling from county-based Regional Business Managers to help Delaware small businesses start, grow, and navigate government resources.\n\n- Phone: (302) 577-8477\n- Email: business@delaware.gov\n- Source: https://founder-nav.com/programs/recdrziBkvFExfX6Q\n\n---\nBrought to you by Founder Nav, helping entrepreneurs navigate the entrepreneurial ecosystem.
DTSTART:20260425T100016Z
DTEND:20260425T103016Z
END:VEVENT
END:VCALENDAR