BEGIN:VCALENDAR
VERSION:2.0
BEGIN:VEVENT
SUMMARY:Reach out to Foster Center for Innovation (University of Maine) about Student Business Incubator
DESCRIPTION:Reach out to them for information about their program.\n\nDescription: UMaine's student-focused business incubator, operated by the Foster Center for Innovation, providing coaching, workspace, and support to students developing ventures. Offers business coaching to anyone with a business idea alongside academic courses in innovation.\n\n- Phone: (207) 581-1454\n- Email: uminnovation@maine.edu\n- Source: https://founder-nav.com/programs/recdqKwMdxO2iLygt\n\n---\nBrought to you by Founder Nav, helping entrepreneurs navigate the entrepreneurial ecosystem.
DTSTART:20260425T100040Z
DTEND:20260425T103040Z
END:VEVENT
END:VCALENDAR