BEGIN:VCALENDAR
VERSION:2.0
BEGIN:VEVENT
SUMMARY:Reach out to Chamber of Commerce Hawaii about Impact SmallBiz Accelerator
DESCRIPTION:Reach out to them for information about their program.\n\nDescription: Five-month accelerator for small businesses in Hawaii, co-developed by Chamber of Commerce Hawaii and HTDC. Runs two cohorts annually of eight businesses each, providing business strategy, technology adoption, marketing, and connections to Chamber's business network.\n\n- Phone: (808) 545-4300\n- Email: info@cochawaii.org\n- Source: https://founder-nav.com/programs/recdphhk49ZvGINYm\n\n---\nBrought to you by Founder Nav, helping entrepreneurs navigate the entrepreneurial ecosystem.
DTSTART:20260425T100057Z
DTEND:20260425T103057Z
END:VEVENT
END:VCALENDAR