BEGIN:VCALENDAR
VERSION:2.0
BEGIN:VEVENT
SUMMARY:Reach out to John Pappajohn Entrepreneurial Center — University of Iowa about Venture Mentoring Service
DESCRIPTION:Reach out to them for information about their program.\n\nDescription: Free team mentoring program using MIT VMS methodology, connecting UI-affiliated entrepreneurs with experienced volunteer mentors for confidential ongoing support.\n\n- Source: https://founder-nav.com/programs/recdkPDdma5QXvyUG\n\n---\nBrought to you by Founder Nav, helping entrepreneurs navigate the entrepreneurial ecosystem.
DTSTART:20260425T100051Z
DTEND:20260425T103051Z
END:VEVENT
END:VCALENDAR