BEGIN:VCALENDAR
VERSION:2.0
BEGIN:VEVENT
SUMMARY:Reach out to NextGEN about NextGEN Accelerator Program
DESCRIPTION:Reach out to them for information about their program.\n\nDescription: Unique opportunity for Greenville founders to engage with successful, experienced founders in a fun and collaborative environment – at NO COST to their business. If you’re a high-growth, post-revenue startup with a scalable model, this is your chance to propel your company forward!\n\n- Phone: (843) 876-1900\n- Source: https://founder-nav.com/programs/recddvRaAYYeVlN7w\n\n---\nBrought to you by Founder Nav, helping entrepreneurs navigate the entrepreneurial ecosystem.
DTSTART:20260425T100021Z
DTEND:20260425T103021Z
END:VEVENT
END:VCALENDAR