BEGIN:VCALENDAR
VERSION:2.0
BEGIN:VEVENT
SUMMARY:Reach out to Change Labs about Change Labs Native Business Incubator
DESCRIPTION:Reach out to them for information about their program.\n\nDescription: A 6-month cohort-based business incubator specifically designed for Native American entrepreneurs on the Navajo and Hopi Nations, combining bi-weekly classes, monthly coaching, mentorship, and workspace access.\n\n- Source: https://founder-nav.com/programs/recdXJoPAvB0t0ASE\n\n---\nBrought to you by Founder Nav, helping entrepreneurs navigate the entrepreneurial ecosystem.
DTSTART:20260425T100017Z
DTEND:20260425T103017Z
END:VEVENT
END:VCALENDAR