BEGIN:VCALENDAR
VERSION:2.0
BEGIN:VEVENT
SUMMARY:Reach out to NXTUS, Inc. about Childcare Entrepreneur Growth Cohort
DESCRIPTION:Reach out to them for information about their program.\n\nDescription: 6-week cohort program for childcare providers in Northwest Kansas to improve and grow their businesses through 1:1 virtual coaching, bi-weekly workshops, and operational technology guidance.\n\n- Phone: (316) 214-7657\n- Source: https://founder-nav.com/programs/recdUUnurpULWHuys\n\n---\nBrought to you by Founder Nav, helping entrepreneurs navigate the entrepreneurial ecosystem.
DTSTART:20260425T100015Z
DTEND:20260425T103015Z
END:VEVENT
END:VCALENDAR