BEGIN:VCALENDAR
VERSION:2.0
BEGIN:VEVENT
SUMMARY:Reach out to Innovation Hub (I-HUB) / Inland SoCal Accelerate Hub about Crucible Accelerator
DESCRIPTION:Reach out to them for information about their program.\n\nDescription: An 11-week, no-cost and no-equity accelerator program for early-stage startups in the western US, run by the UCR Innovation Hub (I-HUB) as part of the Inland SoCal Accelerate Hub initiative funded by CalOSBA.\n\n- Email: aileen.luib@ucr.edu\n- Source: https://founder-nav.com/programs/recdUQT6ijRAk73ae\n\n---\nBrought to you by Founder Nav, helping entrepreneurs navigate the entrepreneurial ecosystem.
DTSTART:20260424T100000Z
DTEND:20260424T103000Z
END:VEVENT
END:VCALENDAR