BEGIN:VCALENDAR
VERSION:2.0
BEGIN:VEVENT
SUMMARY:Reach out to The Frederick Innovative Technology Center about IDEA Lab Workshops & Training
DESCRIPTION:Reach out to them for information about their program.\n\nDescription: A community-facing program for earliest-stage entrepreneurs exploring entrepreneurship and innovation. Funded by an $88K Truist Foundation grant. Serves as the entry point into the FITCI ecosystem, with a pathway to the Edge Accelerator and FITCI Incubator for participants ready to advance.\n\n- Source: https://founder-nav.com/programs/recdOU8hG3AcOeHGi\n\n---\nBrought to you by Founder Nav, helping entrepreneurs navigate the entrepreneurial ecosystem.
DTSTART:20260425T100048Z
DTEND:20260425T103048Z
END:VEVENT
END:VCALENDAR