BEGIN:VCALENDAR
VERSION:2.0
BEGIN:VEVENT
SUMMARY:Reach out to Idaho State University SBDC – Pocatello  about One-on-One Business Consulting
DESCRIPTION:Reach out to them for information about their program.\n\nDescription: Free, confidential one-on-one business consulting for entrepreneurs in Southeast Idaho. The ISU SBDC in Pocatello offers professional guidance on business planning, marketing, financing, and operations.\n\n- Phone: (208) 244-8521\n- Email: swanann@isu.edu\n- Source: https://founder-nav.com/programs/recdMKsIC5QQAg0L5\n\n---\nBrought to you by Founder Nav, helping entrepreneurs navigate the entrepreneurial ecosystem.
DTSTART:20260425T100028Z
DTEND:20260425T103028Z
END:VEVENT
END:VCALENDAR