BEGIN:VCALENDAR
VERSION:2.0
BEGIN:VEVENT
SUMMARY:Reach out to NXTUS, Inc. about NXTSTAGE Financial Technology Pilot Competition
DESCRIPTION:Reach out to them for information about their program.\n\nDescription: Global competition enabling fintech startups to present technology solutions to Kansas banks, credit unions, and financial services companies for potential pilot testing or full deployment.\n\n- Phone: (316) 214-7657\n- Source: https://founder-nav.com/programs/recdG7skLSo41czxO\n\n---\nBrought to you by Founder Nav, helping entrepreneurs navigate the entrepreneurial ecosystem.
DTSTART:20260425T100058Z
DTEND:20260425T103058Z
END:VEVENT
END:VCALENDAR