BEGIN:VCALENDAR
VERSION:2.0
BEGIN:VEVENT
SUMMARY:Reach out to Fresno Area Hispanic Foundation (FAHF) about Latinapreneur/Womanpreneur Cohort
DESCRIPTION:Reach out to them for information about their program.\n\nDescription: Provides hands-on support for entrepreneurs and small businesses through funding access, mentoring, training, and educational workshops to foster self-sufficiency, economic advancement, and community growth in the Central Valley.\n\n- Phone: (559) 222-8705\n- Email: incubator@fresnodbh.org\n- Source: https://founder-nav.com/programs/recdCjBaBCSS33Js1\n\n---\nBrought to you by Founder Nav, helping entrepreneurs navigate the entrepreneurial ecosystem.
DTSTART:20260425T100005Z
DTEND:20260425T103005Z
END:VEVENT
END:VCALENDAR