BEGIN:VCALENDAR
VERSION:2.0
BEGIN:VEVENT
SUMMARY:Reach out to Unknown Hub about Main Street and Beyond
DESCRIPTION:Reach out to them for information about their program.\n\nDescription: Provides personalized business advice, strategic funding assistance, outreach, training, networking events, technical support, and group coaching to help entrepreneurs access capital, build skills, and grow their businesses, with a focus on underserved and minority-owned enterprises.\n\n- Phone: (877) 459-0002\n- Source: https://founder-nav.com/programs/recdBu7YStY9Jj7l4\n\n---\nBrought to you by Founder Nav, helping entrepreneurs navigate the entrepreneurial ecosystem.
DTSTART:20260425T100007Z
DTEND:20260425T103007Z
END:VEVENT
END:VCALENDAR