BEGIN:VCALENDAR
VERSION:2.0
BEGIN:VEVENT
SUMMARY:Reach out to Hawaii SBDC – Maui about Business Advising (No-Cost, One-on-One)
DESCRIPTION:Reach out to them for information about their program.\n\nDescription: No-cost, confidential business advising from the Hawaii SBDC Maui office for Maui County entrepreneurs. SBA-funded advisors provide expert guidance on business planning, financial modeling, capital access, marketing, and growth strategies tailored to Maui's business environment.\n\n- Phone: (808) 875-5990\n- Email: maui@hisbdc.org\n- Source: https://founder-nav.com/programs/recdBg3zBGfH62p2S\n\n---\nBrought to you by Founder Nav, helping entrepreneurs navigate the entrepreneurial ecosystem.
DTSTART:20260425T100012Z
DTEND:20260425T103012Z
END:VEVENT
END:VCALENDAR