BEGIN:VCALENDAR
VERSION:2.0
BEGIN:VEVENT
SUMMARY:Reach out to ISU Pappajohn Center for Entrepreneurship about CYstarters Accelerator
DESCRIPTION:Reach out to them for information about their program.\n\nDescription: 11-week summer accelerator for ISU students and recent graduates, providing funding ($6,500–$13,000), mentorship, and structured programming to launch or grow startups.\n\n- Phone: (515) 296-5302\n- Email: mgraett@iastate.edu\n- Source: https://founder-nav.com/programs/recdBIPK1wJOriLG2\n\n---\nBrought to you by Founder Nav, helping entrepreneurs navigate the entrepreneurial ecosystem.
DTSTART:20260425T100035Z
DTEND:20260425T103035Z
END:VEVENT
END:VCALENDAR