BEGIN:VCALENDAR
VERSION:2.0
BEGIN:VEVENT
SUMMARY:Reach out to CONNSTEP about CT SMARTE Program (Advanced Manufacturing Training)
DESCRIPTION:Reach out to them for information about their program.\n\nDescription: DOE-funded program linking CT small and medium manufacturers with advanced manufacturing technologies, data modeling, and energy efficiency resources at no cost.\n\n- Phone: (860) 513-3200\n- Email: info@connstep.org\n- Source: https://founder-nav.com/programs/recd9Y44bVb9NbdXr\n\n---\nBrought to you by Founder Nav, helping entrepreneurs navigate the entrepreneurial ecosystem.
DTSTART:20260425T100058Z
DTEND:20260425T103058Z
END:VEVENT
END:VCALENDAR