BEGIN:VCALENDAR
VERSION:2.0
BEGIN:VEVENT
SUMMARY:Reach out to Black Small Business Association of California about BSBA 6-Week Virtual Group Coaching
DESCRIPTION:Reach out to them for information about their program.\n\nDescription: A 6-week virtual group coaching program for Black-owned micro-businesses and independent contractors to build business skills and community.\n\n- Email: INFO@BSBA-CA.ORG\n- Source: https://founder-nav.com/programs/recd9MNhGnEa8zjWm\n\n---\nBrought to you by Founder Nav, helping entrepreneurs navigate the entrepreneurial ecosystem.
DTSTART:20260425T100049Z
DTEND:20260425T103049Z
END:VEVENT
END:VCALENDAR