BEGIN:VCALENDAR
VERSION:2.0
BEGIN:VEVENT
SUMMARY:Reach out to Warehouse Innovation Hub about Warehouse Make It Accelerator
DESCRIPTION:Reach out to them for information about their program.\n\nDescription: Four-month cohort-based accelerator for Northern Colorado tech and manufacturing companies in the scale-up phase, with mentors, strategic guidance, and access to industrial space at the Forge Campus in Loveland.\n\n- Phone: (970) 541-0991\n- Source: https://founder-nav.com/programs/recd7r9BVOl554enF\n\n---\nBrought to you by Founder Nav, helping entrepreneurs navigate the entrepreneurial ecosystem.
DTSTART:20260425T100004Z
DTEND:20260425T103004Z
END:VEVENT
END:VCALENDAR