BEGIN:VCALENDAR
VERSION:2.0
BEGIN:VEVENT
SUMMARY:Reach out to Wilmington Alliance about WilmingtonMADE
DESCRIPTION:Reach out to them for information about their program.\n\nDescription: WilmingtonMADE is a Wilmington Alliance program launched in 2020 to support local entrepreneurs through training, individualized coaching, business development, and backend support services. Originally a 'shop local' campaign, it has grown into a comprehensive small business support initiative serving Wilmington's underrepresented entrepreneurs.\n\n- Email: tish@wilmingtonalliance.org\n- Source: https://founder-nav.com/programs/recd593HqTL1pn8Cm\n\n---\nBrought to you by Founder Nav, helping entrepreneurs navigate the entrepreneurial ecosystem.
DTSTART:20260425T100037Z
DTEND:20260425T103037Z
END:VEVENT
END:VCALENDAR