BEGIN:VCALENDAR
VERSION:2.0
BEGIN:VEVENT
SUMMARY:Reach out to UB Accelerator about Bridgeport Accelerator Program
DESCRIPTION:Reach out to them for information about their program.\n\nDescription: 40-week accelerator for Bridgeport residents offering weekly expert speakers, co-working space, and $5,000 grants upon completion.\n\n- Phone: (203) 576-2389\n- Source: https://founder-nav.com/programs/recd41bWY4twTGvE6\n\n---\nBrought to you by Founder Nav, helping entrepreneurs navigate the entrepreneurial ecosystem.
DTSTART:20260425T100015Z
DTEND:20260425T103015Z
END:VEVENT
END:VCALENDAR