BEGIN:VCALENDAR
VERSION:2.0
BEGIN:VEVENT
SUMMARY:Reach out to Kansas SBDC about Capital Access Center (CAC)
DESCRIPTION:Reach out to them for information about their program.\n\nDescription: Free expert loan guidance and capital acquisition consulting for Kansas small businesses, staffed by banking professionals helping clients prepare for and secure loans and other financing.\n\n- Phone: (913) 469-3878\n- Email: ksbdc@jccc.edu\n- Source: https://founder-nav.com/programs/recd0R8iXGwhocgx4\n\n---\nBrought to you by Founder Nav, helping entrepreneurs navigate the entrepreneurial ecosystem.
DTSTART:20260425T100055Z
DTEND:20260425T103055Z
END:VEVENT
END:VCALENDAR