BEGIN:VCALENDAR
VERSION:2.0
BEGIN:VEVENT
SUMMARY:Reach out to John Pappajohn Entrepreneurial Center — University of Iowa about Startup Incubator Summer Track
DESCRIPTION:Reach out to them for information about their program.\n\nDescription: 12-week paid summer accelerator for UI students using Lean LaunchPad methodology with intensive mentorship and weekly pitches.\n\n- Source: https://founder-nav.com/programs/reccqXgXsZuMy36JZ\n\n---\nBrought to you by Founder Nav, helping entrepreneurs navigate the entrepreneurial ecosystem.
DTSTART:20260425T100050Z
DTEND:20260425T103050Z
END:VEVENT
END:VCALENDAR