BEGIN:VCALENDAR
VERSION:2.0
BEGIN:VEVENT
SUMMARY:Reach out to The Frederick Innovative Technology Center about FITCI Incubator Program
DESCRIPTION:Reach out to them for information about their program.\n\nDescription: A technology and life sciences incubator providing office and laboratory space, mentorship, and investor access for startups. Connects residents to a network spanning NIH, FDA, and NIST, supporting commercialization of life science and tech innovations. Located at The EDGE at 321, 321 Ballenger Center Drive, Frederick, MD. FITCI is a 501(c)(3) nonprofit founded in 2004.\n\n- Source: https://founder-nav.com/programs/reccnfrXx9rErPJlE\n\n---\nBrought to you by Founder Nav, helping entrepreneurs navigate the entrepreneurial ecosystem.
DTSTART:20260425T100037Z
DTEND:20260425T103037Z
END:VEVENT
END:VCALENDAR