BEGIN:VCALENDAR
VERSION:2.0
BEGIN:VEVENT
SUMMARY:Reach out to Denver Metro SBDC  about Denver Metro SBDC Advising & Training
DESCRIPTION:Reach out to them for information about their program.\n\nDescription: Free, confidential one-on-one business advising and low-cost training workshops for entrepreneurs and small businesses in the Denver Metro area covering business planning, financial management, and marketing.\n\n- Phone: (303) 914-6239\n- Email: kelyn.lanier@rrcc.edu\n- Source: https://founder-nav.com/programs/recck3uLHNnJ5X0Qs\n\n---\nBrought to you by Founder Nav, helping entrepreneurs navigate the entrepreneurial ecosystem.
DTSTART:20260425T100036Z
DTEND:20260425T103036Z
END:VEVENT
END:VCALENDAR