BEGIN:VCALENDAR
VERSION:2.0
BEGIN:VEVENT
SUMMARY:Reach out to Eastern Shore Entrepreneurship Center about F3 Tech Accelerator
DESCRIPTION:Reach out to them for information about their program.\n\nDescription: Accelerator for late-stage AgTech, CyberAg, Renewable Energy, and AgBioTech companies, providing advanced business advisory, non-dilutive capital access, and industry connections. No equity taken.\n\n- Phone: (410) 770-9330\n- Email: info@f3tech.org\n- Source: https://founder-nav.com/programs/reccjEblzkYx0XpD9\n\n---\nBrought to you by Founder Nav, helping entrepreneurs navigate the entrepreneurial ecosystem.
DTSTART:20260425T100039Z
DTEND:20260425T103039Z
END:VEVENT
END:VCALENDAR