BEGIN:VCALENDAR
VERSION:2.0
BEGIN:VEVENT
SUMMARY:Reach out to North Coast SBDC (Del Norte) about SBDC Business Advising & Mentoring
DESCRIPTION:Reach out to them for information about their program.\n\nDescription: Provides free, confidential business advising and training to help entrepreneurs and small businesses with marketing, finance, accessing capital, compliance, and growth at all stages, from startup to transition.\n\n- Phone: (707) 445-9720\n- Email: admin@northcoastsbdc.org\n- Source: https://founder-nav.com/programs/reccgiphMtqQ44lmM\n\n---\nBrought to you by Founder Nav, helping entrepreneurs navigate the entrepreneurial ecosystem.
DTSTART:20260425T100018Z
DTEND:20260425T103018Z
END:VEVENT
END:VCALENDAR