BEGIN:VCALENDAR
VERSION:2.0
BEGIN:VEVENT
SUMMARY:Reach out to BioCT about BioCT Innovation Commons (Incubator)
DESCRIPTION:Reach out to them for information about their program.\n\nDescription: Provides commercial-grade labs and offices with flexible leases, business services, and a supportive community for science and technology ventures in southeastern Connecticut, fostering productivity and collaboration near major cities and research institutions.\n\n- Phone: (203) 913-8008\n- Email: kkelly@bioct.org\n- Source: https://founder-nav.com/programs/reccH7fGP5Pyh04Xo\n\n---\nBrought to you by Founder Nav, helping entrepreneurs navigate the entrepreneurial ecosystem.
DTSTART:20260425T100026Z
DTEND:20260425T103026Z
END:VEVENT
END:VCALENDAR