BEGIN:VCALENDAR
VERSION:2.0
BEGIN:VEVENT
SUMMARY:Reach out to Fuse Accelerator about Fuse x DIU On-Ramp Hub Dual-Use Accelerator (Phoenix)
DESCRIPTION:Reach out to them for information about their program.\n\nDescription: A 3-month hybrid accelerator for scale-stage dual-use tech startups, helping them enter both commercial and Department of Defense markets through curated mentorship, government contracts access, and enterprise partnerships.\n\n- Email: info@fuseaccelerator.com\n- Source: https://founder-nav.com/programs/recbyKqYkDoHuEBLS\n\n---\nBrought to you by Founder Nav, helping entrepreneurs navigate the entrepreneurial ecosystem.
DTSTART:20260425T100019Z
DTEND:20260425T103019Z
END:VEVENT
END:VCALENDAR