BEGIN:VCALENDAR
VERSION:2.0
BEGIN:VEVENT
SUMMARY:Reach out to Innosphere Ventures about REACH Energy Accelerator
DESCRIPTION:Reach out to them for information about their program.\n\nDescription: Year-long energy hardtech accelerator for startups commercializing proven energy innovations. Supports market research, techno-economic analysis, carbon lifecycle assessments, investor readiness, and corporate partnerships.\n\n- Phone: (970) 221-1301\n- Email: mike@innosphereventures.org\n- Source: https://founder-nav.com/programs/recbugZ5GnNodb6IT\n\n---\nBrought to you by Founder Nav, helping entrepreneurs navigate the entrepreneurial ecosystem.
DTSTART:20260425T100026Z
DTEND:20260425T103026Z
END:VEVENT
END:VCALENDAR