BEGIN:VCALENDAR
VERSION:2.0
BEGIN:VEVENT
SUMMARY:Reach out to BioVentures Center (University of Iowa Research Park) about Startup Solutions Expert Advice Series
DESCRIPTION:Reach out to them for information about their program.\n\nDescription: Expert advice series at the UI Research Park providing startup-focused guidance, connections, and support services for Iowa innovators.\n\n- Source: https://founder-nav.com/programs/recbtukcRcQ3e1bUm\n\n---\nBrought to you by Founder Nav, helping entrepreneurs navigate the entrepreneurial ecosystem.
DTSTART:20260425T100019Z
DTEND:20260425T103019Z
END:VEVENT
END:VCALENDAR