BEGIN:VCALENDAR
VERSION:2.0
BEGIN:VEVENT
SUMMARY:Reach out to UCI Beall Applied Innovation – The Cove @ UCI about ANTrepreneur Center
DESCRIPTION:Reach out to them for information about their program.\n\nDescription: Equips undergraduates with skills, mentorship, and resources to launch startups, grow professionally, and lead with purpose through hands-on programs, expert guidance, and access to campus resources, fostering the next generation of entrepreneurial leaders.\n\n- Email: antrepreneur@uci.edu\n- Source: https://founder-nav.com/programs/recbliQw3H27RIf7e\n\n---\nBrought to you by Founder Nav, helping entrepreneurs navigate the entrepreneurial ecosystem.
DTSTART:20260425T100000Z
DTEND:20260425T103000Z
END:VEVENT
END:VCALENDAR