BEGIN:VCALENDAR
VERSION:2.0
BEGIN:VEVENT
SUMMARY:Reach out to The E-Center about Leadership Development
DESCRIPTION:Reach out to them for information about their program.\n\nDescription: This course is essential for learning the intangibles to equip business owners with the tools necessary to start, run, and sustain a business. Projected to serve 25 participants per course in four sessions over a 24-month projected period, this course provides participants with materials, books, training exercises, and case studies to test and hone leadership skills.\n\n- Email: donna@the-ecenter.org\n- Source: https://founder-nav.com/programs/recbgBMCJUaDY5BEx\n\n---\nBrought to you by Founder Nav, helping entrepreneurs navigate the entrepreneurial ecosystem.
DTSTART:20260425T100037Z
DTEND:20260425T103037Z
END:VEVENT
END:VCALENDAR