BEGIN:VCALENDAR
VERSION:2.0
BEGIN:VEVENT
SUMMARY:Reach out to Long Beach Accelerator about Long Beach Accelerator
DESCRIPTION:Reach out to them for information about their program.\n\nDescription: 4-month accelerator in downtown Long Beach investing $150K for 7% equity, focused on logistics, health tech, green tech, and blue tech startups.\n\n- Source: https://founder-nav.com/programs/recbd9oSjPvmaEPa1\n\n---\nBrought to you by Founder Nav, helping entrepreneurs navigate the entrepreneurial ecosystem.
DTSTART:20260425T100017Z
DTEND:20260425T103017Z
END:VEVENT
END:VCALENDAR